BEGIN:VCALENDAR
VERSION:2.0
PRODID:-//Ligue de parachutisme de Bretagne - ECPv6.10.2//NONSGML v1.0//EN
CALSCALE:GREGORIAN
METHOD:PUBLISH
X-WR-CALNAME:Ligue de parachutisme de Bretagne
X-ORIGINAL-URL:https://parachutisme-bretagne.com
X-WR-CALDESC:Évènements pour Ligue de parachutisme de Bretagne
REFRESH-INTERVAL;VALUE=DURATION:PT1H
X-Robots-Tag:noindex
X-PUBLISHED-TTL:PT1H
BEGIN:VTIMEZONE
TZID:Europe/Paris
BEGIN:DAYLIGHT
TZOFFSETFROM:+0100
TZOFFSETTO:+0200
TZNAME:CEST
DTSTART:20250330T010000
END:DAYLIGHT
BEGIN:STANDARD
TZOFFSETFROM:+0200
TZOFFSETTO:+0100
TZNAME:CET
DTSTART:20251026T010000
END:STANDARD
END:VTIMEZONE
BEGIN:VEVENT
DTSTART;VALUE=DATE:20250301
DTEND;VALUE=DATE:20250302
DTSTAMP:20260424T015043
CREATED:20250227T100646Z
LAST-MODIFIED:20250227T102057Z
UID:4413-1740787200-1740873599@parachutisme-bretagne.com
SUMMARY:AG EPSVB
DESCRIPTION:
URL:https://parachutisme-bretagne.com/event/ag-epsvb/
END:VEVENT
BEGIN:VEVENT
DTSTART;VALUE=DATE:20250301
DTEND;VALUE=DATE:20250302
DTSTAMP:20260424T015043
CREATED:20250227T101043Z
LAST-MODIFIED:20250227T101043Z
UID:4415-1740787200-1740873599@parachutisme-bretagne.com
SUMMARY:AG Club Vannes Ploermel
DESCRIPTION:
URL:https://parachutisme-bretagne.com/event/ag-club-vannes-ploermel/
END:VEVENT
BEGIN:VEVENT
DTSTART;VALUE=DATE:20250308
DTEND;VALUE=DATE:20250309
DTSTAMP:20260424T015043
CREATED:20250227T101303Z
LAST-MODIFIED:20250227T102034Z
UID:4417-1741392000-1741478399@parachutisme-bretagne.com
SUMMARY:AG Club Armor Parachutisme
DESCRIPTION:
URL:https://parachutisme-bretagne.com/event/ag-club-armor-parachutisme/
END:VEVENT
BEGIN:VEVENT
DTSTART;VALUE=DATE:20250308
DTEND;VALUE=DATE:20250309
DTSTAMP:20260424T015043
CREATED:20250227T101450Z
LAST-MODIFIED:20250227T101450Z
UID:4419-1741392000-1741478399@parachutisme-bretagne.com
SUMMARY:AG Club Lorient Parachutisme
DESCRIPTION:
URL:https://parachutisme-bretagne.com/event/ag-club-lorient-parachutisme/
END:VEVENT
BEGIN:VEVENT
DTSTART;VALUE=DATE:20250314
DTEND;VALUE=DATE:20250315
DTSTAMP:20260424T015043
CREATED:20250227T103536Z
LAST-MODIFIED:20250227T103536Z
UID:4437-1741910400-1741996799@parachutisme-bretagne.com
SUMMARY:Reprise des sauts EPSVB
DESCRIPTION:
URL:https://parachutisme-bretagne.com/event/reprise-des-sauts-epsvb/
END:VEVENT
BEGIN:VEVENT
DTSTART;VALUE=DATE:20250315
DTEND;VALUE=DATE:20250316
DTSTAMP:20260424T015043
CREATED:20250312T192602Z
LAST-MODIFIED:20250312T193448Z
UID:4449-1741996800-1742083199@parachutisme-bretagne.com
SUMMARY:Ouverture de la saison école Guiscriff
DESCRIPTION:
URL:https://parachutisme-bretagne.com/event/ouverture-ecole-guiscriff/
LOCATION:SCAËR-GUISCRIFF (EPBA)\, Aérodrome de Scaër-Guiscriff - Pont Person\, Guiscriff\, 56560\, France
CATEGORIES:Évènements
END:VEVENT
BEGIN:VEVENT
DTSTART;VALUE=DATE:20250315
DTEND;VALUE=DATE:20250316
DTSTAMP:20260424T015043
CREATED:20250227T103010Z
LAST-MODIFIED:20250227T103010Z
UID:4429-1741996800-1742083199@parachutisme-bretagne.com
SUMMARY:AG  Comité Départemental 56
DESCRIPTION:
URL:https://parachutisme-bretagne.com/event/ag-comite-departemental-56/
END:VEVENT
BEGIN:VEVENT
DTSTART;VALUE=DATE:20250315
DTEND;VALUE=DATE:20250316
DTSTAMP:20260424T015043
CREATED:20250227T103121Z
LAST-MODIFIED:20250227T103121Z
UID:4431-1741996800-1742083199@parachutisme-bretagne.com
SUMMARY:AG Ligue de Bretagne de Parachutisme
DESCRIPTION:
URL:https://parachutisme-bretagne.com/event/ag-ligue-de-bretagne-de-parachutisme/
END:VEVENT
BEGIN:VEVENT
DTSTART;VALUE=DATE:20250322
DTEND;VALUE=DATE:20250323
DTSTAMP:20260424T015043
CREATED:20250227T103605Z
LAST-MODIFIED:20250227T103605Z
UID:4439-1742601600-1742687999@parachutisme-bretagne.com
SUMMARY:Reprise des sauts 7ème Ciel
DESCRIPTION:
URL:https://parachutisme-bretagne.com/event/reprise-des-sauts-7eme-ciel/
END:VEVENT
BEGIN:VEVENT
DTSTART;VALUE=DATE:20250322
DTEND;VALUE=DATE:20250324
DTSTAMP:20260424T015043
CREATED:20250312T192916Z
LAST-MODIFIED:20250312T193320Z
UID:4452-1742601600-1742774399@parachutisme-bretagne.com
SUMMARY:Coupe du Roi Morvan (PA)
DESCRIPTION:
URL:https://parachutisme-bretagne.com/event/coupe-du-roi-morvan-pa/
LOCATION:SCAËR-GUISCRIFF (EPBA)\, Aérodrome de Scaër-Guiscriff - Pont Person\, Guiscriff\, 56560\, France
CATEGORIES:Évènements
END:VEVENT
BEGIN:VEVENT
DTSTART;VALUE=DATE:20250328
DTEND;VALUE=DATE:20250329
DTSTAMP:20260424T015043
CREATED:20250227T103200Z
LAST-MODIFIED:20250227T103200Z
UID:4433-1743120000-1743206399@parachutisme-bretagne.com
SUMMARY:AG CROS de Bretagne
DESCRIPTION:
URL:https://parachutisme-bretagne.com/event/ag-cros-de-bretagne/
END:VEVENT
BEGIN:VEVENT
DTSTART;VALUE=DATE:20250329
DTEND;VALUE=DATE:20250330
DTSTAMP:20260424T015043
CREATED:20250227T103227Z
LAST-MODIFIED:20250227T103227Z
UID:4435-1743206400-1743292799@parachutisme-bretagne.com
SUMMARY:AG FFP
DESCRIPTION:
URL:https://parachutisme-bretagne.com/event/ag-ffp/
END:VEVENT
END:VCALENDAR