BEGIN:VCALENDAR
VERSION:2.0
PRODID:-//Ligue de parachutisme de Bretagne - ECPv6.10.2//NONSGML v1.0//EN
CALSCALE:GREGORIAN
METHOD:PUBLISH
X-WR-CALNAME:Ligue de parachutisme de Bretagne
X-ORIGINAL-URL:https://parachutisme-bretagne.com
X-WR-CALDESC:Évènements pour Ligue de parachutisme de Bretagne
REFRESH-INTERVAL;VALUE=DURATION:PT1H
X-Robots-Tag:noindex
X-PUBLISHED-TTL:PT1H
BEGIN:VTIMEZONE
TZID:Europe/Paris
BEGIN:DAYLIGHT
TZOFFSETFROM:+0100
TZOFFSETTO:+0200
TZNAME:CEST
DTSTART:20250330T010000
END:DAYLIGHT
BEGIN:STANDARD
TZOFFSETFROM:+0200
TZOFFSETTO:+0100
TZNAME:CET
DTSTART:20251026T010000
END:STANDARD
END:VTIMEZONE
BEGIN:VEVENT
DTSTART;VALUE=DATE:20250528
DTEND;VALUE=DATE:20250602
DTSTAMP:20260423T225502
CREATED:20250312T194815Z
LAST-MODIFIED:20250312T194815Z
UID:4473-1748390400-1748822399@parachutisme-bretagne.com
SUMMARY:animation FF  (Florent Guinde et Manou Droneau)
DESCRIPTION:
URL:https://parachutisme-bretagne.com/event/animation-ff-florent-guinde-et-manou-droneau/
LOCATION:Vannes (EPSVB)\, 1-2\, rue de kersimon\, Monterblanc\, 56250\, France
CATEGORIES:Évènements
END:VEVENT
BEGIN:VEVENT
DTSTART;VALUE=DATE:20250529
DTEND;VALUE=DATE:20250602
DTSTAMP:20260423T225502
CREATED:20250312T194540Z
LAST-MODIFIED:20250312T194540Z
UID:4469-1748476800-1748822399@parachutisme-bretagne.com
SUMMARY:Boogie Vertical Perroz
DESCRIPTION:
URL:https://parachutisme-bretagne.com/event/boogie-vertical-perroz-2/
LOCATION:Lannion (7ème Ciel Parachutisme)\, 126 Rue de l'Aérodrome\, lannion\, 22300\, France
CATEGORIES:Évènements
END:VEVENT
END:VCALENDAR