BEGIN:VCALENDAR
VERSION:2.0
PRODID:-//Ligue de parachutisme de Bretagne - ECPv6.10.2//NONSGML v1.0//EN
CALSCALE:GREGORIAN
METHOD:PUBLISH
X-WR-CALNAME:Ligue de parachutisme de Bretagne
X-ORIGINAL-URL:https://parachutisme-bretagne.com
X-WR-CALDESC:Évènements pour Ligue de parachutisme de Bretagne
REFRESH-INTERVAL;VALUE=DURATION:PT1H
X-Robots-Tag:noindex
X-PUBLISHED-TTL:PT1H
BEGIN:VTIMEZONE
TZID:Europe/Paris
BEGIN:DAYLIGHT
TZOFFSETFROM:+0100
TZOFFSETTO:+0200
TZNAME:CEST
DTSTART:20250330T010000
END:DAYLIGHT
BEGIN:STANDARD
TZOFFSETFROM:+0200
TZOFFSETTO:+0100
TZNAME:CET
DTSTART:20251026T010000
END:STANDARD
END:VTIMEZONE
BEGIN:VEVENT
DTSTART;VALUE=DATE:20250516
DTEND;VALUE=DATE:20250519
DTSTAMP:20260424T002124
CREATED:20250312T193930Z
LAST-MODIFIED:20250312T193930Z
UID:4459-1747353600-1747612799@parachutisme-bretagne.com
SUMMARY:Jeff Challenge-Noel Hardouin - (PA)
DESCRIPTION:
URL:https://parachutisme-bretagne.com/event/jeff-challenge-noel-hardouin-pa/
LOCATION:Vannes (EPSVB)\, 1-2\, rue de kersimon\, Monterblanc\, 56250\, France
CATEGORIES:Évènements
END:VEVENT
END:VCALENDAR